BEGIN:VCALENDAR
VERSION:2.0
PRODID:-//ArtistNepal Events: Upcoming Nepali Festivals &amp; Events in the USA | Buy &amp; Sell Tickets Online - ECPv6.15.13.1//NONSGML v1.0//EN
CALSCALE:GREGORIAN
METHOD:PUBLISH
X-ORIGINAL-URL:https://events.artistnepal.com
X-WR-CALDESC:Events for ArtistNepal Events: Upcoming Nepali Festivals &amp; Events in the USA | Buy &amp; Sell Tickets Online
REFRESH-INTERVAL;VALUE=DURATION:PT1H
X-Robots-Tag:noindex
X-PUBLISHED-TTL:PT1H
BEGIN:VTIMEZONE
TZID:America/New_York
BEGIN:DAYLIGHT
TZOFFSETFROM:-0500
TZOFFSETTO:-0400
TZNAME:EDT
DTSTART:20240310T070000
END:DAYLIGHT
BEGIN:STANDARD
TZOFFSETFROM:-0400
TZOFFSETTO:-0500
TZNAME:EST
DTSTART:20241103T060000
END:STANDARD
BEGIN:DAYLIGHT
TZOFFSETFROM:-0500
TZOFFSETTO:-0400
TZNAME:EDT
DTSTART:20250309T070000
END:DAYLIGHT
BEGIN:STANDARD
TZOFFSETFROM:-0400
TZOFFSETTO:-0500
TZNAME:EST
DTSTART:20251102T060000
END:STANDARD
BEGIN:DAYLIGHT
TZOFFSETFROM:-0500
TZOFFSETTO:-0400
TZNAME:EDT
DTSTART:20260308T070000
END:DAYLIGHT
BEGIN:STANDARD
TZOFFSETFROM:-0400
TZOFFSETTO:-0500
TZNAME:EST
DTSTART:20261101T060000
END:STANDARD
END:VTIMEZONE
BEGIN:VEVENT
DTSTART;TZID=America/New_York:20250414T100000
DTEND;TZID=America/New_York:20250414T130000
DTSTAMP:20260425T190140
CREATED:20250327T000824Z
LAST-MODIFIED:20250327T001005Z
UID:10000062-1744624800-1744635600@events.artistnepal.com
SUMMARY:Nepal Flag Raising Ceremony in Toronto!🇳🇵 🇨🇦✨
DESCRIPTION:Join us as we proudly raise Nepal’s flag at Toronto City Hall to celebrate Nepali New Year 2082! 🎉🎊 \n📅 Date: April 14\, 2025⏰ Time: 10:30 AM – 12:30 PM📍 Location: Toronto City Hall\, 100 Queen Street West \nLet’s come together to honor our heritage\, unity\, and a fresh start to the new year. Don’t miss this proud moment! \n🔴 Organized by: Nepalese Canadian Community Services (NCCS) \nTag your friends and be a part of this special celebration! ❤️🇳🇵 #NepaliNewYear2082 #NepalFlagRaising #Toronto #ProudNepali #CommunityEvent
URL:https://events.artistnepal.com/event/nepal-flag-raising-ceremony-in-toronto-%f0%9f%87%a8%f0%9f%87%a6%e2%9c%a8/
LOCATION:Toronto City Hall\, 100 Queen St W\, ON M5H 2N3\,\, Toronto\, Ontario\, Canada
ATTACH;FMTTYPE=image/jpeg:https://events.artistnepal.com/wp-content/uploads/2025/03/Nepal-Flag-Raising-Ceremony-in-Toronto-🇨🇦✨.jpg
END:VEVENT
END:VCALENDAR