BEGIN:VCALENDAR
VERSION:2.0
PRODID:-//ArtistNepal Events: Upcoming Nepali Festivals &amp; Events in the USA | Buy &amp; Sell Tickets Online - ECPv6.15.13.1//NONSGML v1.0//EN
CALSCALE:GREGORIAN
METHOD:PUBLISH
X-ORIGINAL-URL:https://events.artistnepal.com
X-WR-CALDESC:Events for ArtistNepal Events: Upcoming Nepali Festivals &amp; Events in the USA | Buy &amp; Sell Tickets Online
REFRESH-INTERVAL;VALUE=DURATION:PT1H
X-Robots-Tag:noindex
X-PUBLISHED-TTL:PT1H
BEGIN:VTIMEZONE
TZID:America/New_York
BEGIN:DAYLIGHT
TZOFFSETFROM:-0500
TZOFFSETTO:-0400
TZNAME:EDT
DTSTART:20230312T070000
END:DAYLIGHT
BEGIN:STANDARD
TZOFFSETFROM:-0400
TZOFFSETTO:-0500
TZNAME:EST
DTSTART:20231105T060000
END:STANDARD
BEGIN:DAYLIGHT
TZOFFSETFROM:-0500
TZOFFSETTO:-0400
TZNAME:EDT
DTSTART:20240310T070000
END:DAYLIGHT
BEGIN:STANDARD
TZOFFSETFROM:-0400
TZOFFSETTO:-0500
TZNAME:EST
DTSTART:20241103T060000
END:STANDARD
BEGIN:DAYLIGHT
TZOFFSETFROM:-0500
TZOFFSETTO:-0400
TZNAME:EDT
DTSTART:20250309T070000
END:DAYLIGHT
BEGIN:STANDARD
TZOFFSETFROM:-0400
TZOFFSETTO:-0500
TZNAME:EST
DTSTART:20251102T060000
END:STANDARD
END:VTIMEZONE
BEGIN:VEVENT
DTSTART;TZID=America/New_York:20240622T180000
DTEND;TZID=America/New_York:20240623T180000
DTSTAMP:20260421T105055
CREATED:20240427T203544Z
LAST-MODIFIED:20240503T195338Z
UID:10000034-1719079200-1719165600@events.artistnepal.com
SUMMARY:The Living Legend Ranjit Gazmer UTSHAV in USA
DESCRIPTION:Nakshatra Foundation in Association with Menuka Memorial Foundation & Bhutanese Nepali Artists Presents \nTHE LIVING LEGEND RANJIT GAZMER UTSHAV: LIVE in USA\nVENUE : Fairfield Community Arts Center \nSupported by: SAMAS Foundation\, Kokomhendo Ensemble\, Bhutanese American Music Association\, Global Bhutanese Organization – GBO Global Bhutanese Literary Organization : Ivory Home Health Care Services\, and Yak N Yeti – Restaurant and Bar\nPerformers Lineup:\nRobin Sharma\, Kishor Siwakoti\, Manju Lama Gurung\, Shiva Mapchan\, Kamal Rai\, Ronan Subba\, Kanchhi Maya Subba Magar\, Rajendra Sharma\, Samjhana Oli\, Lila Gajmer\, Prabin Diyalee\, Naresh Gautam\, Nk Brothers\, Khada Gautam\, Usha Gurung\, Mano Rath Tiwari\, Tek Dudhraj\, Kiran Gajmer\, Ramesh Kadel\, Sujata Verma\, Sital Sharma\, Laxmi Darnal Lamichhane\, Chhabi Neopaney\, Biren Rasaily
URL:https://events.artistnepal.com/event/the-living-legend-ranjit-gazmer-utshav-in-usa/
LOCATION:Community Arts Center | Fairfield\, OH\, 411 Wessel Dr\, Fairfield\, OH 45014\, Fairfield\, OH\, 45014\, United States
CATEGORIES:Music Concert & Live Performence
ATTACH;FMTTYPE=image/jpeg:https://events.artistnepal.com/wp-content/uploads/2024/04/ranjit-gajamer-live-musical-event-in-usa.jpg
ORGANIZER;CN="Nakshatra Foundation":MAILTO:nakshatrafoundation2@gmail.com
END:VEVENT
END:VCALENDAR