BEGIN:VCALENDAR
VERSION:2.0
PRODID:-//ArtistNepal Events: Upcoming Nepali Festivals &amp; Events in the USA | Buy &amp; Sell Tickets Online - ECPv6.15.13.1//NONSGML v1.0//EN
CALSCALE:GREGORIAN
METHOD:PUBLISH
X-WR-CALNAME:ArtistNepal Events: Upcoming Nepali Festivals &amp; Events in the USA | Buy &amp; Sell Tickets Online
X-ORIGINAL-URL:https://events.artistnepal.com
X-WR-CALDESC:Events for ArtistNepal Events: Upcoming Nepali Festivals &amp; Events in the USA | Buy &amp; Sell Tickets Online
REFRESH-INTERVAL;VALUE=DURATION:PT1H
X-Robots-Tag:noindex
X-PUBLISHED-TTL:PT1H
BEGIN:VTIMEZONE
TZID:America/New_York
BEGIN:DAYLIGHT
TZOFFSETFROM:-0500
TZOFFSETTO:-0400
TZNAME:EDT
DTSTART:20240310T070000
END:DAYLIGHT
BEGIN:STANDARD
TZOFFSETFROM:-0400
TZOFFSETTO:-0500
TZNAME:EST
DTSTART:20241103T060000
END:STANDARD
BEGIN:DAYLIGHT
TZOFFSETFROM:-0500
TZOFFSETTO:-0400
TZNAME:EDT
DTSTART:20250309T070000
END:DAYLIGHT
BEGIN:STANDARD
TZOFFSETFROM:-0400
TZOFFSETTO:-0500
TZNAME:EST
DTSTART:20251102T060000
END:STANDARD
BEGIN:DAYLIGHT
TZOFFSETFROM:-0500
TZOFFSETTO:-0400
TZNAME:EDT
DTSTART:20260308T070000
END:DAYLIGHT
BEGIN:STANDARD
TZOFFSETFROM:-0400
TZOFFSETTO:-0500
TZNAME:EST
DTSTART:20261101T060000
END:STANDARD
END:VTIMEZONE
BEGIN:VEVENT
DTSTART;TZID=America/New_York:20250413T200000
DTEND;TZID=America/New_York:20250413T200000
DTSTAMP:20260425T202244
CREATED:20250327T000249Z
LAST-MODIFIED:20250327T000319Z
UID:10000061-1744574400-1744574400@events.artistnepal.com
SUMMARY:🎶 Bartika Eam Rai – Live in Toronto! 🇨🇦🔥
DESCRIPTION:Toronto\, get ready! Bartika Eam Rai is bringing her soulful music to Lee’s Palace on April 13 – Nepali New Year’s Eve! 🎤✨ \n🎟️ TICKETS OUT NOW🔹 Early Birds – $54🔹 First Phase – $59🔹 Second Phase – $69(Excluding facility fees & taxes) \n📍 Venue: Lee’s Palace\, 529 Bloor St W\, Toronto\, ON M5S 1Y5\, Canada📲 Scan the QR code on the poster to grab your tickets now! \nTag your friends & let’s welcome the new year with music! 🎶❤️ #BartikaInToronto #NepaliNewYear #LiveMusic #TorontoConcert #PracharPresents
URL:https://events.artistnepal.com/event/%f0%9f%8e%b6-bartika-eam-rai-live-in-toronto-%f0%9f%87%a8%f0%9f%87%a6%f0%9f%94%a5/
ATTACH;FMTTYPE=image/jpeg:https://events.artistnepal.com/wp-content/uploads/2025/03/Bartika-Eam-Rai-–-Live-in-Toronto-🇨🇦.jpg
END:VEVENT
END:VCALENDAR