BEGIN:VCALENDAR
VERSION:2.0
PRODID:-//ArtistNepal Events: Upcoming Nepali Festivals &amp; Events in the USA | Buy &amp; Sell Tickets Online - ECPv6.15.13.1//NONSGML v1.0//EN
CALSCALE:GREGORIAN
METHOD:PUBLISH
X-WR-CALNAME:ArtistNepal Events: Upcoming Nepali Festivals &amp; Events in the USA | Buy &amp; Sell Tickets Online
X-ORIGINAL-URL:https://events.artistnepal.com
X-WR-CALDESC:Events for ArtistNepal Events: Upcoming Nepali Festivals &amp; Events in the USA | Buy &amp; Sell Tickets Online
REFRESH-INTERVAL;VALUE=DURATION:PT1H
X-Robots-Tag:noindex
X-PUBLISHED-TTL:PT1H
BEGIN:VTIMEZONE
TZID:America/New_York
BEGIN:DAYLIGHT
TZOFFSETFROM:-0500
TZOFFSETTO:-0400
TZNAME:EDT
DTSTART:20220313T070000
END:DAYLIGHT
BEGIN:STANDARD
TZOFFSETFROM:-0400
TZOFFSETTO:-0500
TZNAME:EST
DTSTART:20221106T060000
END:STANDARD
BEGIN:DAYLIGHT
TZOFFSETFROM:-0500
TZOFFSETTO:-0400
TZNAME:EDT
DTSTART:20230312T070000
END:DAYLIGHT
BEGIN:STANDARD
TZOFFSETFROM:-0400
TZOFFSETTO:-0500
TZNAME:EST
DTSTART:20231105T060000
END:STANDARD
BEGIN:DAYLIGHT
TZOFFSETFROM:-0500
TZOFFSETTO:-0400
TZNAME:EDT
DTSTART:20240310T070000
END:DAYLIGHT
BEGIN:STANDARD
TZOFFSETFROM:-0400
TZOFFSETTO:-0500
TZNAME:EST
DTSTART:20241103T060000
END:STANDARD
END:VTIMEZONE
BEGIN:VEVENT
DTSTART;TZID=America/New_York:20230707T183000
DTEND;TZID=America/New_York:20230707T233000
DTSTAMP:20260421T071951
CREATED:20230630T073515Z
LAST-MODIFIED:20230701T022554Z
UID:10000025-1688754600-1688772600@events.artistnepal.com
SUMMARY:A Night of NEPALI STAR'S With SUGAM POKHAREL\,RAJESH HAMAL & WILSON BIKRAM RAI
DESCRIPTION:Revel Events\, Buddha Tax\, Rupandan Media & Namaste Group Presents \n“A Night of NEPALI STARS”\nwith\nPop Icon\nSUGAM POKAREL\nMahanayak\nRAJESH HAMAL\nComedy King\nWILSON BIKRAM RAI\nHosted By\nASIF SHAH\nAfter Party\nDJ LS\n  \nCertain portion of amount will be contributed for Sindhu- USA Welfare’s Education Fund
URL:https://events.artistnepal.com/event/a-night-of-nepali-stars-with-sugam-pokharelrajesh-hamal-wilson-bikram-rai/
LOCATION:Majestic Hall\, 56-70 58th St\, Maspeth\, NY 11378\, United States\, NEW YORK\, NY\, 11378\, United States
CATEGORIES:Music Concert & Live Performence
ATTACH;FMTTYPE=image/jpeg:https://events.artistnepal.com/wp-content/uploads/2023/06/night-of-nepali-star-wit-rajesh-amal-sugam-pokarel-and-wilson-bikram-rai.jpg
ORGANIZER;CN="Revel Event INC":MAILTO:event@artistnepal.com
END:VEVENT
BEGIN:VEVENT
DTSTART;TZID=America/New_York:20230601T080000
DTEND;TZID=America/New_York:20230731T170000
DTSTAMP:20260421T071951
CREATED:20230418T130048Z
LAST-MODIFIED:20230423T022044Z
UID:10000015-1685606400-1690822800@events.artistnepal.com
SUMMARY:The Grand MUSICAL TOUR- USA
DESCRIPTION:Hosted By: Asif Shah\nLIVE Performence By: Sugam Pokharel \nEvent By: Revel Events & Amar Chhetri Foundation
URL:https://events.artistnepal.com/event/the-grand-musical-tour-usa/
LOCATION:NY
CATEGORIES:Music Concert & Live Performence
ATTACH;FMTTYPE=image/jpeg:https://events.artistnepal.com/wp-content/uploads/2023/04/sugam-pokharel-asif-shaha-live-in-usa.jpg
ORGANIZER;CN="Revel Event INC":MAILTO:event@artistnepal.com
END:VEVENT
BEGIN:VEVENT
DTSTART;TZID=America/New_York:20230527T200000
DTEND;TZID=America/New_York:20230527T200000
DTSTAMP:20260421T071951
CREATED:20230419T180450Z
LAST-MODIFIED:20230422T214341Z
UID:10000018-1685217600-1685217600@events.artistnepal.com
SUMMARY:VTEN LIVE in Harrisburg PA
DESCRIPTION:SN Entertainment Presents\nVTEN Live in Harrisburg \nEmcee: Bishal Dhungana\nOpening Act\nBadal Thapa\nPawan Barakoti\nYoung Jyojo \nGeneral : 70\nDoor: 80\nVIP : 100
URL:https://events.artistnepal.com/event/vten-live-in-harrisburg-2/
LOCATION:Harrisburg Midtown Arts Center\, 1110 N 3rd St\, Harrisburg\, PA\, 17102\, United States
CATEGORIES:Music Concert & Live Performence
ATTACH;FMTTYPE=image/jpeg:https://events.artistnepal.com/wp-content/uploads/2023/04/VTEN-live-in-Harrisburg.jpg
ORGANIZER;CN="SN Entertainment":MAILTO:event@artistnepal.com
END:VEVENT
END:VCALENDAR