BEGIN:VCALENDAR
VERSION:2.0
PRODID:-//ArtistNepal Events: Upcoming Nepali Festivals &amp; Events in the USA | Buy &amp; Sell Tickets Online - ECPv6.15.13.1//NONSGML v1.0//EN
CALSCALE:GREGORIAN
METHOD:PUBLISH
X-WR-CALNAME:ArtistNepal Events: Upcoming Nepali Festivals &amp; Events in the USA | Buy &amp; Sell Tickets Online
X-ORIGINAL-URL:https://events.artistnepal.com
X-WR-CALDESC:Events for ArtistNepal Events: Upcoming Nepali Festivals &amp; Events in the USA | Buy &amp; Sell Tickets Online
REFRESH-INTERVAL;VALUE=DURATION:PT1H
X-Robots-Tag:noindex
X-PUBLISHED-TTL:PT1H
BEGIN:VTIMEZONE
TZID:America/New_York
BEGIN:DAYLIGHT
TZOFFSETFROM:-0500
TZOFFSETTO:-0400
TZNAME:EDT
DTSTART:20230312T070000
END:DAYLIGHT
BEGIN:STANDARD
TZOFFSETFROM:-0400
TZOFFSETTO:-0500
TZNAME:EST
DTSTART:20231105T060000
END:STANDARD
BEGIN:DAYLIGHT
TZOFFSETFROM:-0500
TZOFFSETTO:-0400
TZNAME:EDT
DTSTART:20240310T070000
END:DAYLIGHT
BEGIN:STANDARD
TZOFFSETFROM:-0400
TZOFFSETTO:-0500
TZNAME:EST
DTSTART:20241103T060000
END:STANDARD
BEGIN:DAYLIGHT
TZOFFSETFROM:-0500
TZOFFSETTO:-0400
TZNAME:EDT
DTSTART:20250309T070000
END:DAYLIGHT
BEGIN:STANDARD
TZOFFSETFROM:-0400
TZOFFSETTO:-0500
TZNAME:EST
DTSTART:20251102T060000
END:STANDARD
END:VTIMEZONE
BEGIN:VEVENT
DTSTART;TZID=America/New_York:20240608T210000
DTEND;TZID=America/New_York:20240609T030000
DTSTAMP:20260423T190336
CREATED:20240507T003042Z
LAST-MODIFIED:20240507T003042Z
UID:10000045-1717880400-1717902000@events.artistnepal.com
SUMMARY:MANTRA BAND LIVE in USA Featuring PRABISHA ADHIKARI
DESCRIPTION:Nepali music and culture. Led by the dynamic Nepali band\, Mantra\, this event promises an enchanting journey through the melodies and rhythms that define the Himalayan nation’s musical landscape. From soul-stirring ballads to foot-tapping folk tunes\, Mantra’s repertoire transcends borders\, captivating audiences with their heartfelt performances. Step into the vibrant ambiance of Melrose Ballroom as it transforms into a haven of Nepali sounds and sights. Be transported to the bustling streets of Kathmandu or the serene valleys of Nepal as Mantra takes the stage\, accompanied by an ensemble of talented musicians. Whether you’re a die-hard fan or a newcomer to Nepali music\, “Mantra Live in New York\, Featuring Prabisha Adhikari” guarantees an evening of discovery and delight.
URL:https://events.artistnepal.com/event/mantra-band-live-in-usa-featuring-prabisha-adhikari/
LOCATION:Melrose Ballroom\, 3608 33rd Street\, Queens\, NY\, 11106\, United States
CATEGORIES:Music Concert & Live Performence
ATTACH;FMTTYPE=image/jpeg:https://events.artistnepal.com/wp-content/uploads/2024/05/mantra-live-in-newyork-with-prabisha-adhikari.jpg
END:VEVENT
END:VCALENDAR