BEGIN:VCALENDAR
VERSION:2.0
PRODID:-//ArtistNepal Events: Upcoming Nepali Festivals &amp; Events in the USA | Buy &amp; Sell Tickets Online - ECPv6.15.13.1//NONSGML v1.0//EN
CALSCALE:GREGORIAN
METHOD:PUBLISH
X-WR-CALNAME:ArtistNepal Events: Upcoming Nepali Festivals &amp; Events in the USA | Buy &amp; Sell Tickets Online
X-ORIGINAL-URL:https://events.artistnepal.com
X-WR-CALDESC:Events for ArtistNepal Events: Upcoming Nepali Festivals &amp; Events in the USA | Buy &amp; Sell Tickets Online
REFRESH-INTERVAL;VALUE=DURATION:PT1H
X-Robots-Tag:noindex
X-PUBLISHED-TTL:PT1H
BEGIN:VTIMEZONE
TZID:America/New_York
BEGIN:DAYLIGHT
TZOFFSETFROM:-0500
TZOFFSETTO:-0400
TZNAME:EDT
DTSTART:20230312T070000
END:DAYLIGHT
BEGIN:STANDARD
TZOFFSETFROM:-0400
TZOFFSETTO:-0500
TZNAME:EST
DTSTART:20231105T060000
END:STANDARD
BEGIN:DAYLIGHT
TZOFFSETFROM:-0500
TZOFFSETTO:-0400
TZNAME:EDT
DTSTART:20240310T070000
END:DAYLIGHT
BEGIN:STANDARD
TZOFFSETFROM:-0400
TZOFFSETTO:-0500
TZNAME:EST
DTSTART:20241103T060000
END:STANDARD
BEGIN:DAYLIGHT
TZOFFSETFROM:-0500
TZOFFSETTO:-0400
TZNAME:EDT
DTSTART:20250309T070000
END:DAYLIGHT
BEGIN:STANDARD
TZOFFSETFROM:-0400
TZOFFSETTO:-0500
TZNAME:EST
DTSTART:20251102T060000
END:STANDARD
END:VTIMEZONE
BEGIN:VEVENT
DTSTART;TZID=America/New_York:20240511T200000
DTEND;TZID=America/New_York:20240512T020000
DTSTAMP:20260423T203235
CREATED:20240417T125718Z
LAST-MODIFIED:20240504T011625Z
UID:10000032-1715457600-1715479200@events.artistnepal.com
SUMMARY:Nepsydaz\, Gloomy Guys & Sanjok Yonjan LIVE IN NEWYORK
DESCRIPTION:Nepsydaz\, Gloomy Guys & Sanjok Yonjan LIVE IN NEWYORK\nAfter Musical Show DJ BHA2 \nDate: SAT\, MAY 11\, 2024 \nTIME: 8:30 PM \nVENUE: KTM Bar & Louge \nAbout Artist::  \n\nNepsydaz\n\nNepsydaz\, one of the leading hip-hop/rap bands in Nepal\, has made a significant impact on the music scene. they formed Da Nepsydaz and left their mark on Nepali hip-hop. Over the years\, Nepsydaz has released several albums\, including “Ktm Reality” (2003)\, “Made in Nepal” (2005)\, and “Aayo Nepsydaz” (2008). Their hit songs like “Maya\,” “Aaja Kina\,” and “Fuck the Crowd” have garnered acclaim and awards. \n  \n\nGloomy Guys is an oldest band originally from Banepa\, Nepal. They have various hit songs from different genres like Slow rock\, Lok Dohori\, and Lok Pop. Each and every song by the band holds the golden memories of the ’90s kids or even before that. Here are a few of their popular songs:\n\n“Piratiko Taalma”: A Nepali all-time hit pop song by Gloomy Guys Band Banepa.\n“Akashaima Chil Udyo Fanana”: Another track by Gloomy Guys with heartfelt lyrics.\n“Herna Deu Timro Muhar”: A melodious sentimental Nepali pop song by Gloomy Guys.\n\n\nSanjok Yonjan\n\nSanjok Yonjan is a talented Nepali singer\, music composer\, and lyricist. Let me share some information about him: \n\n“SINGUN JATTAR”:Sanjok Yonjan collaborated with Anju Thokar to create the Nepali Tamang Selo Song titled “SINGUN JATTAR.”\nMaya Ma Nell: Sanjok Yonjan also worked on the song “Maya Ma Nell\,” featuring Sumina Lo\, Sachin\, Kabita\, and Prem Lopchan.\nTAMSALING:Sanjok Yonjan’s recent work includes the song “TAMSALING\,” a New Tamang Selo Song in 2024.\n\nSanjok Yonjan has made significant contributions to Nepali music\, especially within the Tamang community.
URL:https://events.artistnepal.com/event/nepsydaz-gloomy-guys-live-in-newyork/
LOCATION:KTM BAR & LOUNGE\, 7532 Broadway 2nd floor\, Queens\, Jackson Heights–Roosevelt Avenue/74th Street\, NY\, 11373\, United States
CATEGORIES:Music Concert & Live Performence
ATTACH;FMTTYPE=image/jpeg:https://events.artistnepal.com/wp-content/uploads/2024/04/nepsydaz-Sanjog-Lama-gloomy-guys-live-in-newyork.jpeg
ORGANIZER;CN="Revel Event INC":MAILTO:event@artistnepal.com
END:VEVENT
END:VCALENDAR