BEGIN:VCALENDAR
VERSION:2.0
PRODID:-//ArtistNepal Events: Upcoming Nepali Festivals &amp; Events in the USA | Buy &amp; Sell Tickets Online - ECPv6.15.13.1//NONSGML v1.0//EN
CALSCALE:GREGORIAN
METHOD:PUBLISH
X-ORIGINAL-URL:https://events.artistnepal.com
X-WR-CALDESC:Events for ArtistNepal Events: Upcoming Nepali Festivals &amp; Events in the USA | Buy &amp; Sell Tickets Online
REFRESH-INTERVAL;VALUE=DURATION:PT1H
X-Robots-Tag:noindex
X-PUBLISHED-TTL:PT1H
BEGIN:VTIMEZONE
TZID:America/New_York
BEGIN:DAYLIGHT
TZOFFSETFROM:-0500
TZOFFSETTO:-0400
TZNAME:EDT
DTSTART:20240310T070000
END:DAYLIGHT
BEGIN:STANDARD
TZOFFSETFROM:-0400
TZOFFSETTO:-0500
TZNAME:EST
DTSTART:20241103T060000
END:STANDARD
BEGIN:DAYLIGHT
TZOFFSETFROM:-0500
TZOFFSETTO:-0400
TZNAME:EDT
DTSTART:20250309T070000
END:DAYLIGHT
BEGIN:STANDARD
TZOFFSETFROM:-0400
TZOFFSETTO:-0500
TZNAME:EST
DTSTART:20251102T060000
END:STANDARD
BEGIN:DAYLIGHT
TZOFFSETFROM:-0500
TZOFFSETTO:-0400
TZNAME:EDT
DTSTART:20260308T070000
END:DAYLIGHT
BEGIN:STANDARD
TZOFFSETFROM:-0400
TZOFFSETTO:-0500
TZNAME:EST
DTSTART:20261101T060000
END:STANDARD
END:VTIMEZONE
BEGIN:VEVENT
DTSTART;TZID=America/New_York:20250309T080000
DTEND;TZID=America/New_York:20250329T170000
DTSTAMP:20260423T033323
CREATED:20250302T224410Z
LAST-MODIFIED:20250302T224410Z
UID:10000052-1741507200-1743267600@events.artistnepal.com
SUMMARY:NEPATHYA AUSTRALIA TOUR 2025
DESCRIPTION: Nepathya is coming to Australia! \nGet ready for an unforgettable musical journey with Nepal’s legendary band as they rock stages across Australia in March 2025! \n\n\n Tour Dates & Locations:\n Canberra – 3rd March | National Convention Centre (Royal Theatre)\n Perth – 9th March | Metro City\n Brisbane – 14th March | The Tivoli\n Hobart – 18th March | Odeon Theatre\n Adelaide – 21st March | Hindley Street Music Hall\n Melbourne – 24th March | Festival Hall\n Sydney – 29th March | The Hordern Pavilion\n\n\n Get your tickets now at www.nepathya.com.np\n\n\nLet’s sing\, dance\, and celebrate Nepali music together! \n#Nepathya #NepathyaAustraliaTour2025 #NepaliMusic #LiveConcert #AustraliaTour
URL:https://events.artistnepal.com/event/nepathya-australia-tour-2025-2/
CATEGORIES:Music Concert & Live Performence
ATTACH;FMTTYPE=image/jpeg:https://events.artistnepal.com/wp-content/uploads/2025/03/481777627_9524574507594173_8709235497042081251_n.jpg
ORGANIZER;CN="nepa~laya":MAILTO:arpan@nepalaya.com.np
END:VEVENT
BEGIN:VEVENT
DTSTART;TZID=America/New_York:20250324T080000
DTEND;TZID=America/New_York:20250324T170000
DTSTAMP:20260423T033323
CREATED:20250302T225347Z
LAST-MODIFIED:20250302T225354Z
UID:10000054-1742803200-1742835600@events.artistnepal.com
SUMMARY:Hawa Ko Lahar Sangai - Sydney Show
DESCRIPTION:SYDNEY\, ARE YOU READY? \n\n\nThe wait is over! Hawa Ko Lahar Sangai – Sydney Show is coming to Enmore Theatre with the sensational Kuma Sagar & The Khwopaa  Get ready for an unforgettable night of music\, energy\, and pure vibes!\n\n\n Date: 24 March 2025\n Venue: Enmore Theatre\, Sydney\n Scan the QR code for tickets!\n\n\nDon’t miss this epic event! Tag your friends and let’s make it a night to remember! \n\n\n#KumaSagar #TheKhwopaa #SydneyShow #LiveMusic #NepaliMusic #HawaKoLaharSangai #EnmoreTheatre #ConcertVibes
URL:https://events.artistnepal.com/event/hawa-ko-lahar-sangai-sydney-show/
CATEGORIES:Music Concert & Live Performence
ATTACH;FMTTYPE=image/jpeg:https://events.artistnepal.com/wp-content/uploads/2025/03/480790244_1178486573643725_7143575496195098330_n.jpg
ORGANIZER;CN="ArtistNepal Events":MAILTO:info@artistnepal.com
END:VEVENT
END:VCALENDAR